BEGIN:VCALENDAR
VERSION:2.0
PRODID:SchoolNow
CALSCALE:GREGORIAN
BEGIN:VEVENT
UID:8e5338b4-337e-11f1-b8fe-0a58a9feac02
DTSTAMP:20260425T123507Z
SUMMARY:Open House Week
URL;VALUE=URI:https://www.mancosre6.edu/calendar/8979914/open-house-week
DTSTART;VALUE=DATE:20260504
DTEND;VALUE=DATE:20260508
END:VEVENT
END:VCALENDAR
