BEGIN:VCALENDAR
VERSION:2.0
PRODID:SchoolNow
CALSCALE:GREGORIAN
BEGIN:VEVENT
UID:48e34dbc-38df-11f1-9fc5-0eec199e3fa5
DTSTAMP:20260424T121507Z
SUMMARY:School Tours Week
URL;VALUE=URI:https://www.mancosre6.edu/calendar/8995903/school-tours-week
DTSTART;VALUE=DATE:20260504
DTEND;VALUE=DATE:20260509
END:VEVENT
END:VCALENDAR
