BEGIN:VCALENDAR
VERSION:2.0
PRODID:SchoolNow
CALSCALE:GREGORIAN
BEGIN:VEVENT
UID:48e3514a-38df-11f1-a47f-0eec199e3fa5
DTSTAMP:20260421T111507Z
SUMMARY:9th Grade Transition
URL;VALUE=URI:https://www.mancosre6.edu/calendar/8995905/9th-grade-transiti
 on
DTSTART:20260427T223000Z
DTEND:20260428T000000Z
END:VEVENT
END:VCALENDAR
